BEGIN:VCALENDAR
VERSION:2.0
PRODID:-//Bluffton Self Help - ECPv6.15.20//NONSGML v1.0//EN
CALSCALE:GREGORIAN
METHOD:PUBLISH
X-ORIGINAL-URL:https://blufftonselfhelp.org
X-WR-CALDESC:Events for Bluffton Self Help
REFRESH-INTERVAL;VALUE=DURATION:PT1H
X-Robots-Tag:noindex
X-PUBLISHED-TTL:PT1H
BEGIN:VTIMEZONE
TZID:UTC
BEGIN:STANDARD
TZOFFSETFROM:+0000
TZOFFSETTO:+0000
TZNAME:UTC
DTSTART:20240101T000000
END:STANDARD
END:VTIMEZONE
BEGIN:VEVENT
DTSTART;TZID=UTC:20251114T080000
DTEND;TZID=UTC:20251121T170000
DTSTAMP:20260419T145150
CREATED:20250318T060931Z
LAST-MODIFIED:20250411T195134Z
UID:16623-1763107200-1763744400@blufftonselfhelp.org
SUMMARY:Thanksgiving Food Drive
DESCRIPTION:
URL:https://blufftonselfhelp.org/event/thanksgiving-food-drive/
CATEGORIES:Donors & Volunteers
ATTACH;FMTTYPE=image/jpeg:https://blufftonselfhelp.org/wp-content/uploads/2025/02/featured-host-a-drive-e1744401076452.jpg
END:VEVENT
BEGIN:VEVENT
DTSTART;TZID=UTC:20251117T080000
DTEND;TZID=UTC:20251212T170000
DTSTAMP:20260419T145150
CREATED:20250318T061145Z
LAST-MODIFIED:20250411T202958Z
UID:16629-1763366400-1765558800@blufftonselfhelp.org
SUMMARY:Holiday Food Drive Begins
DESCRIPTION:
URL:https://blufftonselfhelp.org/event/holiday-food-drive/
CATEGORIES:Donors & Volunteers
ATTACH;FMTTYPE=image/png:https://blufftonselfhelp.org/wp-content/uploads/2025/03/Website-Photos-FOR-REVIEW-10-e1744403385734.png
END:VEVENT
END:VCALENDAR